BEGIN:VCALENDAR
PRODID:-//github.com/rianjs/ical.net//NONSGML ical.net 4.0//EN
VERSION:2.0
BEGIN:VTIMEZONE
TZID:America/New_York
X-LIC-LOCATION:America/New_York
BEGIN:STANDARD
DTSTART:20241103T020000
RRULE:FREQ=YEARLY;BYDAY=1SU;BYMONTH=11
TZNAME:EST
TZOFFSETFROM:-0400
TZOFFSETTO:-0500
END:STANDARD
BEGIN:DAYLIGHT
DTSTART:20250309T020000
RRULE:FREQ=YEARLY;BYDAY=2SU;BYMONTH=3
TZNAME:EDT
TZOFFSETFROM:-0500
TZOFFSETTO:-0400
END:DAYLIGHT
END:VTIMEZONE
BEGIN:VEVENT
CLASS:PUBLIC
CREATED:20260426T040159Z
DESCRIPTION:Virtual option available via Microsoft Teams Meeting Link: htt
 ps://teams.microsoft.com/meet/260116320183360?p=uf0ep1sB0iwHgsTcGf Meetin
 g ID: 260 116 320 183 360 Passcode: UW24gn6Q Dial in by phone: 1 302-504-
 8986 256450298# Phone conference ID: 256 450 298# Note: All meeting mater
 ials will be posted on the day of the meeting. The meeting video will be 
 posted to the website within a few business days after the meeting.\n htt
 ps://deldotinteract.org/DJ5832
DTEND;TZID=America/New_York:20260528T153000
DTSTAMP:20260426T040159Z
DTSTART;TZID=America/New_York:20260528T140000
LOCATION:South District Building - 23697 Dupont Boulevard\, Georgetown\, D
 E\, USA
SEQUENCE:0
SUMMARY:Coastal Corridors Phase 2 Stakeholder Meeting #3
UID:5555976d-cd00-4b46-9378-9d30ccd2cce7
END:VEVENT
END:VCALENDAR
